BEGIN:VCALENDAR
VERSION:2.0
PRODID:-//Next Level Institute - ECPv6.9.0//NONSGML v1.0//EN
CALSCALE:GREGORIAN
METHOD:PUBLISH
X-ORIGINAL-URL:https://nextlevelinstitute.org
X-WR-CALDESC:Events for Next Level Institute
REFRESH-INTERVAL;VALUE=DURATION:PT1H
X-Robots-Tag:noindex
X-PUBLISHED-TTL:PT1H
BEGIN:VTIMEZONE
TZID:UTC
BEGIN:STANDARD
TZOFFSETFROM:+0000
TZOFFSETTO:+0000
TZNAME:UTC
DTSTART:20260101T000000
END:STANDARD
END:VTIMEZONE
BEGIN:VEVENT
DTSTART;VALUE=DATE:20260221
DTEND;VALUE=DATE:20260223
DTSTAMP:20260421T144439
CREATED:20251125T204824Z
LAST-MODIFIED:20251125T204824Z
UID:1303-1771632000-1771804799@nextlevelinstitute.org
SUMMARY:Ortho-Bionomy® Releases for the Breath
DESCRIPTION:February 21st – 22nd\, 9am-6pm\nPrerequisite: ONE of the following\n\n\nAttend the introductory three hour class February 20\nAttend at least 16 hours of an Ortho-Bionomy hands-on class\nView a series of short introductory videos before class\, that we will provide upon registration\n\n\nIf you want to sign up for both this course and “Introduction to Ortho-Bionomy” (another Ortho-Bionomy class held the same weekend). There is a package price of $410. Please contact us via email if you wish to register for both courses.
URL:https://nextlevelinstitute.org/event/ortho-bionomy-releases-for-the-breath/
END:VEVENT
END:VCALENDAR