BEGIN:VCALENDAR
VERSION:2.0
PRODID:-//Next Level Institute - ECPv6.9.0//NONSGML v1.0//EN
CALSCALE:GREGORIAN
METHOD:PUBLISH
X-WR-CALNAME:Next Level Institute
X-ORIGINAL-URL:https://nextlevelinstitute.org
X-WR-CALDESC:Events for Next Level Institute
REFRESH-INTERVAL;VALUE=DURATION:PT1H
X-Robots-Tag:noindex
X-PUBLISHED-TTL:PT1H
BEGIN:VTIMEZONE
TZID:UTC
BEGIN:STANDARD
TZOFFSETFROM:+0000
TZOFFSETTO:+0000
TZNAME:UTC
DTSTART:20240101T000000
END:STANDARD
END:VTIMEZONE
BEGIN:VEVENT
DTSTART;TZID=UTC:20260515T090000
DTEND;TZID=UTC:20260517T170000
DTSTAMP:20260421T164234
CREATED:20260303T203910Z
LAST-MODIFIED:20260303T203910Z
UID:1483-1778835600-1779037200@nextlevelinstitute.org
SUMMARY:Foundations Of Shiatsu Therapy
DESCRIPTION:May 15th-17th\, 2026\nDiscover Shiatsu- an intuitive blend of acupressure\, movement\, and meridian message therapy designed to treat illness and boost vitality. Learn practical skills you can use right away!
URL:https://nextlevelinstitute.org/event/foundations-of-shiatsu-therapy/
END:VEVENT
BEGIN:VEVENT
DTSTART;TZID=UTC:20260502T090000
DTEND;TZID=UTC:20260503T170000
DTSTAMP:20260421T164234
CREATED:20251210T221957Z
LAST-MODIFIED:20251210T222046Z
UID:1320-1777712400-1777827600@nextlevelinstitute.org
SUMMARY:Understanding Chronic Pain
DESCRIPTION:Understanding Chronic Pain\n$350 \nMay 2nd-3rd; 9am-5pm \nInstructor: Arnold Askew \nWould you like your practice to be more “medical” based? \nWould you like your practice to help transform people’s lives? \nWould you like your practice to be easier on your body and more mentally stimulating? \nDevelop these results when you take Understanding and Transforming Chronic Pain.
URL:https://nextlevelinstitute.org/event/understanding-chronic-pain-2/
END:VEVENT
BEGIN:VEVENT
DTSTART;TZID=UTC:20260426T090000
DTEND;TZID=UTC:20260426T130000
DTSTAMP:20260421T164234
CREATED:20260129T193828Z
LAST-MODIFIED:20260129T193828Z
UID:1448-1777194000-1777208400@nextlevelinstitute.org
SUMMARY:Best of Head Massage for Mind & Mood
DESCRIPTION:April 26th\, 9am- 1pm\, 4 CEs NCBTMB Approved\nInstructor:  Marissa Emery \nThis course focuses on scalp and face massage for calming the mind and creating a peaceful mood\, including more than 30 targeted techniques. The massage is calming yet revitalizing and combines effleurage\, kneading\, friction\, percussion and pressure point techniques.
URL:https://nextlevelinstitute.org/event/best-of-head-massage-for-mind-mood/
END:VEVENT
BEGIN:VEVENT
DTSTART;TZID=UTC:20260425T110000
DTEND;TZID=UTC:20260425T170000
DTSTAMP:20260421T164234
CREATED:20260128T182235Z
LAST-MODIFIED:20260128T182235Z
UID:1433-1777114800-1777136400@nextlevelinstitute.org
SUMMARY:Perinatal Massage: Person-Centered Care for Pregnancy and Postpartum
DESCRIPTION:April 25th\, 11am- 5pm\, 6 CEs NCBTMB Approved\nInstructor:  Marissa Emery \nThis course is designed for LMTs seeking to understand the realities of pregnancy and postpartum and how to adapt their massage sessions to provide meaningful\, layered support for this special group of clients. This course engages participants through discussion\, live demonstration\, and hands-on practice.
URL:https://nextlevelinstitute.org/event/perinatal-massage-person-centered-care-for-pregnancy-and-postpartum/
END:VEVENT
BEGIN:VEVENT
DTSTART;TZID=UTC:20260418T090000
DTEND;TZID=UTC:20260418T150000
DTSTAMP:20260421T164234
CREATED:20251211T002103Z
LAST-MODIFIED:20251211T002310Z
UID:1339-1776502800-1776524400@nextlevelinstitute.org
SUMMARY:PNF Made Simple
DESCRIPTION:In just 6 hours\, you can change the way you treat your clients!
URL:https://nextlevelinstitute.org/event/pnf-made-simple-2/
END:VEVENT
BEGIN:VEVENT
DTSTART;VALUE=DATE:20260409
DTEND;VALUE=DATE:20260413
DTSTAMP:20260421T164234
CREATED:20251111T194522Z
LAST-MODIFIED:20251111T194940Z
UID:1228-1775692800-1776038399@nextlevelinstitute.org
SUMMARY:CS2: CranioSacral Therapy 2
DESCRIPTION:CS2: CranioSacral Therapy 2\nTutuion Price: $995.00 \nApril 9th-12th\, 2026 \nThe course material and hands-on sessions will focus on cranial base dysfunctions\, the masticatory system-hard palate\, mandible and temporomandibular joint; whole body evaluation; and the energy cyst with regional unwinding. An introduction to SomatoEmotional Release will also be presented. \nPlease read the course description on the lower half of the registration page for the class! It includes a lot of important information about how to prepare for the course.
URL:https://nextlevelinstitute.org/event/cs2-craniosacral-therapy-2/
END:VEVENT
BEGIN:VEVENT
DTSTART;TZID=UTC:20260328T090000
DTEND;TZID=UTC:20260328T150000
DTSTAMP:20260421T164234
CREATED:20251211T003658Z
LAST-MODIFIED:20251211T003658Z
UID:1347-1774688400-1774710000@nextlevelinstitute.org
SUMMARY:Table Thai MassageSupine
DESCRIPTION:Supine \n6 CEUs
URL:https://nextlevelinstitute.org/event/table-thai-massagesupine/
END:VEVENT
BEGIN:VEVENT
DTSTART;TZID=UTC:20260314T090000
DTEND;TZID=UTC:20260314T150000
DTSTAMP:20260421T164234
CREATED:20251211T003512Z
LAST-MODIFIED:20251211T003512Z
UID:1345-1773478800-1773500400@nextlevelinstitute.org
SUMMARY:Table Thai MassageProne & Sideline
DESCRIPTION:Prone & Sideline \n6 CEUs
URL:https://nextlevelinstitute.org/event/table-thai-massageprone-sideline/
END:VEVENT
BEGIN:VEVENT
DTSTART;TZID=UTC:20260228T143000
DTEND;TZID=UTC:20260228T163000
DTSTAMP:20260421T164234
CREATED:20260128T181605Z
LAST-MODIFIED:20260128T181605Z
UID:1431-1772289000-1772296200@nextlevelinstitute.org
SUMMARY:Breathe to Thrive
DESCRIPTION:February 28th\, 2:30pm – 4:30pm 2 CEs\nThis course explores the physiology of breathing and how to recognize dysfunctional breathing patterns. You will learn practical tools to help clients restore functional breathing to support issues such as poor sleep\, heightened stress reactivity\, high blood pressure\, and anxiety. The course also teaches how to integrate intentional breathing with movement to improve mobility\, increase energy\, enhance recovery\, and support long-term well-being.
URL:https://nextlevelinstitute.org/event/breathe-to-thrive/
END:VEVENT
BEGIN:VEVENT
DTSTART;TZID=UTC:20260228T090000
DTEND;TZID=UTC:20260228T140000
DTSTAMP:20260421T164234
CREATED:20251216T214456Z
LAST-MODIFIED:20260128T183741Z
UID:1355-1772269200-1772287200@nextlevelinstitute.org
SUMMARY:Ethics for the Modern Bodyworker with Cultural Competency
DESCRIPTION:Ethics for the Modern Bodyworker with Cultural Competency\n$150 \nFebruary 28th\, 9:00am-2:00pm \nInstructor:  Heather Norlander \nThis fun and interactive course addresses a variety of relational situations where boundary setting is needed with clients and clarifies what is needed in various dual relationships. The goal of the class is to obtain clarity in your professional boundaries and devise ways to communicate them to avoid ethical dilemmas. Key provisions covered will be Ethical Standards; Scope of Practice and the Application of the Statute. We will also explore confidentiality\, transference\, client attraction\, emotional triggering\, friendships\, business and energetic boundaries. \nCome get your questions answered and fulfill those Ethics requirements in an enjoyable\, fun-filled setting!
URL:https://nextlevelinstitute.org/event/ethics-for-the-modern-bodyworker-with-cultural-competency-7/
END:VEVENT
BEGIN:VEVENT
DTSTART;VALUE=DATE:20260221
DTEND;VALUE=DATE:20260223
DTSTAMP:20260421T164234
CREATED:20251125T204824Z
LAST-MODIFIED:20251125T204824Z
UID:1303-1771632000-1771804799@nextlevelinstitute.org
SUMMARY:Ortho-Bionomy® Releases for the Breath
DESCRIPTION:February 21st – 22nd\, 9am-6pm\nPrerequisite: ONE of the following\n\n\nAttend the introductory three hour class February 20\nAttend at least 16 hours of an Ortho-Bionomy hands-on class\nView a series of short introductory videos before class\, that we will provide upon registration\n\n\nIf you want to sign up for both this course and “Introduction to Ortho-Bionomy” (another Ortho-Bionomy class held the same weekend). There is a package price of $410. Please contact us via email if you wish to register for both courses.
URL:https://nextlevelinstitute.org/event/ortho-bionomy-releases-for-the-breath/
END:VEVENT
BEGIN:VEVENT
DTSTART;TZID=UTC:20260220T173000
DTEND;TZID=UTC:20260220T203000
DTSTAMP:20260421T164234
CREATED:20251125T201548Z
LAST-MODIFIED:20251125T201548Z
UID:1294-1771608600-1771619400@nextlevelinstitute.org
SUMMARY:Introduction to Ortho-Bionomy® Three-Hour Class (Shoulder\, Psoas)
DESCRIPTION:February 20th\, 2024 5:30pm-8:30pm\nThis three hour introductory class can be used for Phase 4 requirements for the Society of Ortho-Bionomy International® Associate and Practitioner training programs. \n$20 off if you bring a friend! Message us via email for the discount.
URL:https://nextlevelinstitute.org/event/introduction-to-ortho-bionomy-three-hour-class-shoulder-psoas/
END:VEVENT
BEGIN:VEVENT
DTSTART;TZID=UTC:20260207T090000
DTEND;TZID=UTC:20260207T150000
DTSTAMP:20260421T164234
CREATED:20251210T232639Z
LAST-MODIFIED:20251210T232723Z
UID:1328-1770454800-1770476400@nextlevelinstitute.org
SUMMARY:PNF Made Simple
DESCRIPTION:In just 6 hours\, you can change the way you treat your clients!
URL:https://nextlevelinstitute.org/event/pnf-made-simple/
END:VEVENT
BEGIN:VEVENT
DTSTART;TZID=UTC:20260123T090000
DTEND;TZID=UTC:20260125T180000
DTSTAMP:20260421T164234
CREATED:20251112T000524Z
LAST-MODIFIED:20251112T183957Z
UID:1253-1769158800-1769364000@nextlevelinstitute.org
SUMMARY:Scar Tissue Mobilization
DESCRIPTION:Scar Tissue Mobilization\n$695.00 \nJanuary 23rd – 25th; 9:00am-6:00pm \nInstructor: Heather Norlander \nI teach a gentle approach that helps release the restricted tissues\, reduce the visible\nappearances of a scar\, and lessen the psychological effects; helping your clients to regain\nthe confidence and mobility they may have lost along the way.\nYou\, as a therapist\, will learn to treat every detail\, from the scar’s appearance to its\nphysiological and psychological impacts. We address each of these components\nthroughout the scar tissue treatment process to ensure your client’s experience is\nindividually customized to their physical and mental well-being needs.
URL:https://nextlevelinstitute.org/event/scar-tissue-release-therapy-2/
END:VEVENT
BEGIN:VEVENT
DTSTART;TZID=UTC:20251220T090000
DTEND;TZID=UTC:20251220T140000
DTSTAMP:20260421T164234
CREATED:20251111T213419Z
LAST-MODIFIED:20251111T213419Z
UID:1247-1766221200-1766239200@nextlevelinstitute.org
SUMMARY:Ethics for the Modern Bodyworker with Cultural Competency
DESCRIPTION:Ethics for the Modern Bodyworker with Cultural Competency\n$150 \nDecember 20th\, 9:00am-2:00pm \nInstructor:  Heather Norlander \nThis fun and interactive course addresses a variety of relational situations where boundary setting is needed with clients and clarifies what is needed in various dual relationships. The goal of the class is to obtain clarity in your professional boundaries and devise ways to communicate them to avoid ethical dilemmas. Key provisions covered will be Ethical Standards; Scope of Practice and the Application of the Statute. We will also explore confidentiality\, transference\, client attraction\, emotional triggering\, friendships\, business and energetic boundaries. \nCome get your questions answered and fulfill those Ethics requirements in an enjoyable\, fun-filled setting!
URL:https://nextlevelinstitute.org/event/ethics-for-the-modern-bodyworker-with-cultural-competency-6/
END:VEVENT
BEGIN:VEVENT
DTSTART;TZID=UTC:20251213T090000
DTEND;TZID=UTC:20251213T150000
DTSTAMP:20260421T164234
CREATED:20251105T002921Z
LAST-MODIFIED:20251111T204324Z
UID:1201-1765616400-1765638000@nextlevelinstitute.org
SUMMARY:Table Thai Massage Supine
DESCRIPTION:Supine\n$250 \nDecember 13th\, 2025 \n6 CEUs
URL:https://nextlevelinstitute.org/event/table-thai-massage-supine/
END:VEVENT
BEGIN:VEVENT
DTSTART;TZID=UTC:20251206T090000
DTEND;TZID=UTC:20251206T150000
DTSTAMP:20260421T164234
CREATED:20251104T185030Z
LAST-MODIFIED:20251111T204523Z
UID:1170-1765011600-1765033200@nextlevelinstitute.org
SUMMARY:Table Thai Massage Prone & Sideline
DESCRIPTION:Prone & Sideline\n$250 \nDecember 6th\, 2025 \n6 CEUs
URL:https://nextlevelinstitute.org/event/table-thai-stretching/
END:VEVENT
BEGIN:VEVENT
DTSTART;TZID=UTC:20250123T090000
DTEND;TZID=UTC:20250125T170000
DTSTAMP:20260421T164234
CREATED:20240723T142808Z
LAST-MODIFIED:20251112T000249Z
UID:1094-1737622800-1737824400@nextlevelinstitute.org
SUMMARY:Scar Tissue Release Therapy
DESCRIPTION:Scar Tissue Release Therapy\n$695.00 \nJanuary 23rd – 25th; 9:00am-6:00pm \nInstructor: Heather Norlander \nI teach a gentle approach that helps release the restricted tissues\, reduce the visible\nappearances of a scar\, and lessen the psychological effects; helping your clients to regain\nthe confidence and mobility they may have lost along the way.\nYou\, as a therapist\, will learn to treat every detail\, from the scar’s appearance to its\nphysiological and psychological impacts. We address each of these components\nthroughout the scar tissue treatment process to ensure your client’s experience is\nindividually customized to their physical and mental well-being needs.
URL:https://nextlevelinstitute.org/event/scar-tissue-mobilization/
END:VEVENT
BEGIN:VEVENT
DTSTART;TZID=UTC:20241108T090000
DTEND;TZID=UTC:20241108T140000
DTSTAMP:20260421T164234
CREATED:20240206T002103Z
LAST-MODIFIED:20240206T002103Z
UID:877-1731056400-1731074400@nextlevelinstitute.org
SUMMARY:Ethics for the Modern Bodyworker with Cultural Competency
DESCRIPTION:Ethics for the Modern Bodyworker with Cultural Competency\n$150 \nNovember 8th 9:00am-2:00pm \nInstructor:  Heather Norlander \nThis fun and interactive course addresses a variety of relational situations where boundary setting is needed with clients and clarifies what is needed in various dual relationships. The goal of the class is to obtain clarity in your professional boundaries and devise ways to communicate them to avoid ethical dilemmas. Key provisions covered will be Ethical Standards; Scope of Practice and the Application of the Statute. We will also explore confidentiality\, transference\, client attraction\, emotional triggering\, friendships\, business and energetic boundaries. \nCome get your questions answered and fulfill those Ethics requirements in an enjoyable\, fun-filled setting!
URL:https://nextlevelinstitute.org/event/ethics-for-the-modern-bodyworker-with-cultural-competency-3/
END:VEVENT
BEGIN:VEVENT
DTSTART;TZID=UTC:20241017T090000
DTEND;TZID=UTC:20241020T180000
DTSTAMP:20260421T164234
CREATED:20240206T001844Z
LAST-MODIFIED:20240206T001844Z
UID:875-1729155600-1729447200@nextlevelinstitute.org
SUMMARY:Ortho-Bionomy® Fluids\, Facia and Lymphatic System
DESCRIPTION:Ortho-Bionomy® Fluids\, Facia and Lymphatic System\n$620 \nOctober 17th-20th 9am-6pm \nInstructor: Liz Olivas \nIn this class you will learn how Ortho-Bionomy® can facilitate the natural ability of the lymphatic system to function well. The focus will be on understanding the nature of the lymphatic system and its relationship to the fascia and the fluids. The class will include discussion in the following areas: \n\n\nBasic anatomy and physiology of the lymphatic system \n\n\nRelationships between the parts; fluids fascia and the lymphatic System \n\n\nTechniques presented will release structural binding and blocking of the lymphatic system \n\n\nScar tissue refinement \n\n\nSpecific techniques to address Post-Mastectomy Pain Syndrome \n\n\nThis method will gently reduce general pain\, refine post surgical scar tissue\, and promote edema reduction. It is also an effective adjunct to Complete Decongestive Physiotherapy in the treatment of primary and secondary lymphedema. Ortho-Bionomy promotes working with ease and comfort for the client as well as the practitioner
URL:https://nextlevelinstitute.org/event/ortho-bionomy-fluids-facia-and-lymphatic-system/
END:VEVENT
BEGIN:VEVENT
DTSTART;TZID=UTC:20240928T090000
DTEND;TZID=UTC:20240929T170000
DTSTAMP:20260421T164234
CREATED:20240701T191750Z
LAST-MODIFIED:20240701T191750Z
UID:1058-1727514000-1727629200@nextlevelinstitute.org
SUMMARY:Understanding Chronic Pain
DESCRIPTION:Understanding Chronic Pain\n$350 \nSeptember 28th-29th; 9am-5pm \nInstructor: Arnold Askew \nWould you like your practice to be more “medical” based? \nWould you like your practice to help transform people’s lives? \nWould you like your practice to be easier on your body and more mentally stimulating? \nDevelop these results when you take Understanding and Transforming Chronic Pain.
URL:https://nextlevelinstitute.org/event/understanding-chronic-pain/
END:VEVENT
BEGIN:VEVENT
DTSTART;TZID=UTC:20240915T090000
DTEND;TZID=UTC:20240915T140000
DTSTAMP:20260421T164234
CREATED:20240226T181255Z
LAST-MODIFIED:20240226T181255Z
UID:951-1726390800-1726408800@nextlevelinstitute.org
SUMMARY:Ethics for the Modern Bodyworker with Cultural Competency
DESCRIPTION:Ethics for the Modern Bodyworker with Cultural Competency\n$150 \nSeptember 15th 9am-2pm \nInstructor: Heather Norlander \nThis fun and interactive course addresses a variety of relational situations where boundary setting is needed with clients and clarifies what is needed in various dual relationships. The goal of the class is to obtain clarity in your professional boundaries and devise ways to communicate them to avoid ethical dilemmas. Key provisions covered will be Ethical Standards; Scope of Practice and the Application of the Statute. We will also explore confidentiality\, transference\, client attraction\, emotional triggering\, friendships\, business and energetic boundaries. \nCome get your questions answered and fulfill those Ethics requirements in an enjoyable\, fun-filled setting!
URL:https://nextlevelinstitute.org/event/ethics-for-the-modern-bodyworker-with-cultural-competency-5/
END:VEVENT
BEGIN:VEVENT
DTSTART;TZID=UTC:20240913T100000
DTEND;TZID=UTC:20240914T170000
DTSTAMP:20260421T164234
CREATED:20240206T001646Z
LAST-MODIFIED:20240822T195940Z
UID:872-1726221600-1726333200@nextlevelinstitute.org
SUMMARY:Angles and Curves - Hips & Back Dysfunctions
DESCRIPTION:Angles and Curves – Hips & Back Dysfunctions\n$390 \nSeptember 13th-14th 10:00-5:00pm \nInstructor: Dave Wilkinson \nDay 1: Rehabilitative Massage: Rehabilitation of the Hips / 6 CUEs In this seminar\, therapists will do an extensive review of the musculoskeletal and neural anatomy of the hip and pelvic region. They will address major injuries to the hip region including working with hip replacements. They will explore the protective pattern relationship between the hips and shoulders and between the hips and knees. Pelvic decompressions as well as abdominal release to both the muscles\nand digestive system of the abdomen will be practiced. Rehabilitative and stretching techniques will be practiced from the prone\, side-lying\, and prone positions. \nDay 2: Rehabilitative Massage: Rehabilitation of the Back / 6 CUEs This seminar will focus on making a pain/postural assessment of the back and then building a plan and procedure for rehabilitation. Common spinal disc disorders and\nspinal curvature disorders (Lordosis\, Kyphosis\, Scoliosis) will be reviewed. Therapists will study protective patterns and learn to predict and search for compensating and anchoring regions. Back release techniques and stretches will be\npracticed from the prone\, side-lying\, and supine positions.
URL:https://nextlevelinstitute.org/event/angles-and-curves-hips-back-dysfunctions/
END:VEVENT
BEGIN:VEVENT
DTSTART;VALUE=DATE:20240905
DTEND;VALUE=DATE:20240909
DTSTAMP:20260421T164234
CREATED:20240206T001311Z
LAST-MODIFIED:20240206T001440Z
UID:866-1725494400-1725839999@nextlevelinstitute.org
SUMMARY:CS1: Craniosacral Therapy 1
DESCRIPTION:CS1: Craniosacral Therapy 1\n$795 \nSeptember 5-8th \nThis course will introduce you to the anatomy and physiology of the CranioSacral System through our practical hands-on learning by discovery; method. You will learn advanced palpatory skills\, fascial and soft tissue release techniques\, and a concise 10-step protocol for evaluation and treatment of the entire body via the CranioSacral System. To supplement class instruction you will receive a fully-illustrated\, comprehensive study guide. \nPlease read the course description on the lower half of the registration page for the class! It includes a lot of important information about how to prepare for the course.
URL:https://nextlevelinstitute.org/event/cs1-craniosacral-therapy-1/
END:VEVENT
BEGIN:VEVENT
DTSTART;TZID=UTC:20240720T090000
DTEND;TZID=UTC:20240722T183000
DTSTAMP:20260421T164234
CREATED:20240413T003221Z
LAST-MODIFIED:20240711T174633Z
UID:990-1721466000-1721673000@nextlevelinstitute.org
SUMMARY:Practical Lymphatic Drainage for Massage Therapists
DESCRIPTION:Practical Lymphatic Drainage for Massage Therapists\n$499 \nJuly 20th-21st 9:00am-6:30pm \nAllison Ishman \nPRACTICAL LYMPHATIC DRAINAGE is a gentle\, subtle\, low-impact hands-on technique used to reduce swelling\, decongest tissues and joints\, improve lymphatic circulation and speed healing. It may be used for detoxification\, sinus pain & discomfort\, improved sleep & relaxation\, to speed healing post-surgery or injury\,for sports recovery and performance\, to reduce menstrual discomfort\, for chronic lymphedema and more! \nThe FULL COURSE topics include anatomy\, physiology & pathology of the lymphatic system\, basic & advanced techniques of manual lymphatic drainage (MLD)\, indications & contraindications\, post-operative & breast cancer care guidelines\, sports applications\, treating limbs\, special areas of edema\, and sinus congestion. Following the full course\, therapists may offer 60-minute treatments specifically for lymphatic drainage.
URL:https://nextlevelinstitute.org/event/practical-lymphatic-drainage-for-massage-therapists/
END:VEVENT
BEGIN:VEVENT
DTSTART;TZID=UTC:20240621T090000
DTEND;TZID=UTC:20240621T140000
DTSTAMP:20260421T164234
CREATED:20240226T181016Z
LAST-MODIFIED:20240501T230610Z
UID:948-1718960400-1718978400@nextlevelinstitute.org
SUMMARY:Ethics for the Modern Bodywork with Cultural Competency
DESCRIPTION:Ethics for the Modern Bodyworker with Cultural Competency\n$150 \nJune 21st 9am-2pm \nInstructor: Heather Norlander \nThis fun and interactive course addresses a variety of relational situations where boundary setting is needed with clients and clarifies what is needed in various dual relationships. The goal of the class is to obtain clarity in your professional boundaries and devise ways to communicate them to avoid ethical dilemmas. Key provisions covered will be Ethical Standards; Scope of Practice and the Application of the Statute. We will also explore confidentiality\, transference\, client attraction\, emotional triggering\, friendships\, business and energetic boundaries. \nCome get your questions answered and fulfill those Ethics requirements in an enjoyable\, fun-filled setting!
URL:https://nextlevelinstitute.org/event/948/
END:VEVENT
BEGIN:VEVENT
DTSTART;TZID=UTC:20240607T100000
DTEND;TZID=UTC:20240608T170000
DTSTAMP:20260421T164234
CREATED:20240131T151534Z
LAST-MODIFIED:20240131T151627Z
UID:845-1717754400-1717866000@nextlevelinstitute.org
SUMMARY:Rehabilitative Massage Foundation Course
DESCRIPTION:Rehabilitative Massage Foundation Course\n$325 \nJune 7th-8th 10am-5pm \nInstructor: Dave Wilkinson \nLearn foundation techniques to assess and treat any clients pain and dysfunction \nThe principles used to help an athlete return to competition can be equally beneficial in helping any client in need of rehabilitation. This seminar will train and prepare therapists to use Sports Massage Therapy techniques as an effective tool for rehabilitation from all types of injuries. \nThe first day will emphasize myofascial release techniques. Therapists will get an in-depth study of what fascia is and then learn how to prepare and release it. Multiple tools including Cupping\, Gua Sha\, Water Immersion\, Massage Stick\, and Massage Gun will be practiced. \nThe second days emphasis will on Neuromuscular Re-education. Therapist will review neural anatomy and then practice a wide variety of hands-on techniques as well as be introduced to the Theracane\, Pointer Plus\, and Spiky Ball. The\nfollowing PNF stretches will be practiced: AI\, RI\, PIR\, and CRAC. The tools and techniques used in this class will be the foundation for all subsequent classes.
URL:https://nextlevelinstitute.org/event/rehabilitative-massage-foundation-course/
END:VEVENT
BEGIN:VEVENT
DTSTART;TZID=UTC:20240603T080000
DTEND;TZID=UTC:20240603T180000
DTSTAMP:20260421T164234
CREATED:20240131T151115Z
LAST-MODIFIED:20240131T151721Z
UID:843-1717401600-1717437600@nextlevelinstitute.org
SUMMARY:Calcium Deposits and Power Point Deep Tissue
DESCRIPTION:Calcium Deposits and Power Point Deep Tissue\n$280 \nJune 3rd 8:00am-6:00pm \nInstructor: Tatyana Richmond \nThis course utilizes lecture\, demonstration and hands-on practice focusing on the recognition\, causes\, and the effects calcium deposits have on the musculoskeletal system. Students will be presented with deep tissue massage therapy techniques to perform on clients who present with pain and restricted range of motion caused by calcium deposits.
URL:https://nextlevelinstitute.org/event/calcium-deposits-and-power-point-deep-tissue/
END:VEVENT
BEGIN:VEVENT
DTSTART;TZID=UTC:20240518T090000
DTEND;TZID=UTC:20240519T180000
DTSTAMP:20260421T164234
CREATED:20240131T150927Z
LAST-MODIFIED:20240131T150927Z
UID:841-1716022800-1716141600@nextlevelinstitute.org
SUMMARY:Ortho-Bionomy® Releases for the Spine & Pelvis (Phase 4)
DESCRIPTION:Ortho-Bionomy® Releases for the Spine & Pelvis (Phase 4)\n$350 \nMay 18-19 9:00am-6:00pm \nInstructor: Melissa Malm \n\n\nThis Ortho-Bionomy foundation class works with painless\, comfortable positions to release tension patterns of the cervical\, thoracic\, and lumbar spine\, plus the psoas\, ilium rotation\, and sacrum. The pelvis transitions the forces of the lower body into the torso. Working with the tension patterns of each vertebra can help bring balance and ease to the entire body through the principle of “Structure Governs Function.”\n\nIt is amazing how such gentle techniques can give such deep releases. It is easy on the practitioner and can easily be integrated into any massage or bodywork session. These releases can be effective for both acute and chronic tension patterns. They can help clients looking for increased ease and function\, as well as for those looking for relief from pain and tension.\nNCBTMB approved. \nThis class can fulfill a Phase 4 requirement for the Society of Ortho-Bionomy International® Associate and Practitioner training programs.\n\nOrtho-Bionomy® and Society of Ortho-Bionomy International® are registered trademarks of the Society of Ortho-Bionomy International\, Inc. and are used with permission.
URL:https://nextlevelinstitute.org/event/ortho-bionomy-releases-for-the-spine-pelvis-phase-4/
END:VEVENT
BEGIN:VEVENT
DTSTART;TZID=UTC:20240504T090000
DTEND;TZID=UTC:20240505T180000
DTSTAMP:20260421T164234
CREATED:20240130T163658Z
LAST-MODIFIED:20251218T235356Z
UID:821-1714813200-1714932000@nextlevelinstitute.org
SUMMARY:Deep Dive 2-day Workshop - Neck & Pelvis
DESCRIPTION:Deep Dive 2-day Workshop – Neck & Pelvis\n$185-350 (can take one day\, or both) \nMay 4th-5th 9:00am-6:00pm \nInstructor: Heather Norlander \nMay 4\, Deep Dive Head and Neck\, 8CE’s \n\nNew Head and Neck Techniques\nUnderstanding and relieving tinnitus\nUnderstanding and relieving vertigo\nTMJ techniques\nEliminate most migraines\nWhiplash\n\nThis 8-hr NCBTMB approved workshop covers the anatomy\, pathology\, & contraindications for working and addressing pain in the head and neck. \nMay 5\, Deep Dive Pelvis\, Heather Norlander 8CE’s \n\nTreating Deep Pelvis Pain\nSciatica\nSI Joint pain\nAssess and treat pelvic floor and ligament damage\nRealign pelvic bones\nRelieve psoas pain\nRestore natural gait\n\nThis 8-hr continuing education workshop covers the anatomy\, pathology\, & contraindications for working and addressing pain in the pelvis and low back. \nWe’ll cover specific palpation techniques and assessments for common conditions in the pelvis and low back. After learning how to assess these areas\, we’ll take ample time for you to observe and practice specific manual therapy techniques to work with areas such as psoas\, piriformis\, and so much more!!
URL:https://nextlevelinstitute.org/event/deep-dive-2-day-workshop-neck-pelvis/
END:VEVENT
END:VCALENDAR