BEGIN:VCALENDAR
VERSION:2.0
PRODID:-//Next Level Institute - ECPv6.9.0//NONSGML v1.0//EN
CALSCALE:GREGORIAN
METHOD:PUBLISH
X-WR-CALNAME:Next Level Institute
X-ORIGINAL-URL:https://nextlevelinstitute.org
X-WR-CALDESC:Events for Next Level Institute
REFRESH-INTERVAL;VALUE=DURATION:PT1H
X-Robots-Tag:noindex
X-PUBLISHED-TTL:PT1H
BEGIN:VTIMEZONE
TZID:UTC
BEGIN:STANDARD
TZOFFSETFROM:+0000
TZOFFSETTO:+0000
TZNAME:UTC
DTSTART:20230101T000000
END:STANDARD
END:VTIMEZONE
BEGIN:VEVENT
DTSTART;TZID=UTC:20230715T090000
DTEND;TZID=UTC:20230715T130000
DTSTAMP:20260422T225922
CREATED:20230614T011705Z
LAST-MODIFIED:20230714T192422Z
UID:290-1689411600-1689426000@nextlevelinstitute.org
SUMMARY:Ethics for the Modern Bodyworker
DESCRIPTION:Ethics for the Modern Bodyworker\n$100.00 \n\nJuly 15\, 9am-1pm\, 4 CE credits\nInstructor:  Heather Norlander \nThis fun and interactive course addresses a variety of relational situations where boundary setting is needed with clients and clarifies what is needed in various dual relationships. The goal of the class is to obtain clarity in your professional boundaries and devise ways to communicate them to avoid ethical dilemmas. Key provisions covered will be Ethical Standards; Scope of Practice and the Application of the Statute. We will also explore confidentiality\, transference\, client attraction\, emotional triggering\, friendships\, business and energetic boundaries. \nCome get your questions answered and fulfill those Ethics requirements in an enjoyable\, fun-filled setting!
URL:https://nextlevelinstitute.org/event/ethics-for-the-modern-bodyworker/
ATTACH;FMTTYPE=image/png:https://nextlevelinstitute.org/wp-content/uploads/2023/06/Screenshot-2023-06-11-at-8.15.46-PM.png
END:VEVENT
BEGIN:VEVENT
DTSTART;TZID=UTC:20230708T090000
DTEND;TZID=UTC:20230709T180000
DTSTAMP:20260422T225922
CREATED:20230614T013526Z
LAST-MODIFIED:20230616T161500Z
UID:299-1688806800-1688925600@nextlevelinstitute.org
SUMMARY:Ortho-Bionomy® Releases for the Upper Extremities
DESCRIPTION:Ortho-Bionomy® Releases for the Upper Extremities (Phase 4 training)\n$330.00 \n\nJuly 8-9th\, 9am-6pm\, 16 CE’s\nwith Melissa Malm\, BCTMB\n2 DAY WORKSHOP \nMost people have pain and discomfort in their upper extremities from their work. This class will give you the techniques and tools that can help release those pain patterns while keeping your own hands and wrists comfortable. Ortho-Bionomy uses osteopathic-based\, painless\, and gentle body positions. This method is specific and structure oriented. The techniques of this class can alleviate tension patterns of the shoulders\, elbows\, scapula\, clavicles\, wrists\, and hands within 10-30 seconds. \n \nThis class fulfills a requirement for the Society of Ortho-Bionomy International’s Associate and Practitioner training programs. It is NCBTMB approved. \n \nOrtho-Bionomy® is a registered trademark of the Society of Ortho-Bionomy International\, Inc. and is used with permission.
URL:https://nextlevelinstitute.org/event/ortho-bionomy-releases-for-the-upper-extremities/
ATTACH;FMTTYPE=image/png:https://nextlevelinstitute.org/wp-content/uploads/2023/06/Screenshot-2023-06-13-at-6.32.09-PM.png
END:VEVENT
BEGIN:VEVENT
DTSTART;TZID=UTC:20230625T090000
DTEND;TZID=UTC:20230625T180000
DTSTAMP:20260422T225922
CREATED:20230614T004543Z
LAST-MODIFIED:20230620T234416Z
UID:277-1687683600-1687716000@nextlevelinstitute.org
SUMMARY:Medical Massage - Ankle and Knee
DESCRIPTION:Medical Massage – Ankle and Knee\n$165.00 – $295.00 \n\nWith Marty Morales\nJune 24th. 9am – 6pm – Carpal Tunnel\nJune 25th  9am – 6pm – Ankle and Knee
URL:https://nextlevelinstitute.org/event/medical-massage-ankle-and-knee/
ATTACH;FMTTYPE=image/jpeg:https://nextlevelinstitute.org/wp-content/uploads/2023/03/c7872a2d-7975-4078-a93d-c4700434c122.jpg
END:VEVENT
BEGIN:VEVENT
DTSTART;TZID=UTC:20230624T090000
DTEND;TZID=UTC:20230624T180000
DTSTAMP:20260422T225922
CREATED:20230612T033443Z
LAST-MODIFIED:20230620T233904Z
UID:235-1687597200-1687629600@nextlevelinstitute.org
SUMMARY:Medical Massage – Carpal Tunnel
DESCRIPTION:Medical Massage – Carpal Tunnel\n$165.00 – $295.00 \n\nWith Marty Morales\nJune 24th. 9am – 6pm – Carpal Tunnel\nJune 25th  9am – 6pm – Ankle and Knee
URL:https://nextlevelinstitute.org/event/medical-massage-carpral-tunnel/
LOCATION:Carpel Tunnel\, East Gate Circle
ATTACH;FMTTYPE=image/jpeg:https://nextlevelinstitute.org/wp-content/uploads/2023/03/c7872a2d-7975-4078-a93d-c4700434c122.jpg
END:VEVENT
END:VCALENDAR