BEGIN:VCALENDAR
VERSION:2.0
PRODID:-//Next Level Institute - ECPv6.9.0//NONSGML v1.0//EN
CALSCALE:GREGORIAN
METHOD:PUBLISH
X-ORIGINAL-URL:https://nextlevelinstitute.org
X-WR-CALDESC:Events for Next Level Institute
REFRESH-INTERVAL;VALUE=DURATION:PT1H
X-Robots-Tag:noindex
X-PUBLISHED-TTL:PT1H
BEGIN:VTIMEZONE
TZID:UTC
BEGIN:STANDARD
TZOFFSETFROM:+0000
TZOFFSETTO:+0000
TZNAME:UTC
DTSTART:20260101T000000
END:STANDARD
END:VTIMEZONE
BEGIN:VEVENT
DTSTART;TZID=UTC:20260606T090000
DTEND;TZID=UTC:20260606T140000
DTSTAMP:20260421T125141
CREATED:20251216T214627Z
LAST-MODIFIED:20251216T214815Z
UID:1357-1780736400-1780754400@nextlevelinstitute.org
SUMMARY:Ethics for the Modern Bodyworker with Cultural Competency
DESCRIPTION:Ethics for the Modern Bodyworker with Cultural Competency\n$150 \nJune 6th\, 9:00am-2:00pm \nInstructor:  Heather Norlander \nThis fun and interactive course addresses a variety of relational situations where boundary setting is needed with clients and clarifies what is needed in various dual relationships. The goal of the class is to obtain clarity in your professional boundaries and devise ways to communicate them to avoid ethical dilemmas. Key provisions covered will be Ethical Standards; Scope of Practice and the Application of the Statute. We will also explore confidentiality\, transference\, client attraction\, emotional triggering\, friendships\, business and energetic boundaries. \nCome get your questions answered and fulfill those Ethics requirements in an enjoyable\, fun-filled setting!
URL:https://nextlevelinstitute.org/event/ethics-for-the-modern-bodyworker-with-cultural-competency-8/
END:VEVENT
BEGIN:VEVENT
DTSTART;TZID=UTC:20260606T143000
DTEND;TZID=UTC:20260606T163000
DTSTAMP:20260421T125141
CREATED:20260128T182545Z
LAST-MODIFIED:20260128T182545Z
UID:1436-1780756200-1780763400@nextlevelinstitute.org
SUMMARY:Breathe to Thrive
DESCRIPTION:June 6th\, 2:30pm – 4:30pm 2 CEs\nThis course explores the physiology of breathing and how to recognize dysfunctional breathing patterns. You will learn practical tools to help clients restore functional breathing to support issues such as poor sleep\, heightened stress reactivity\, high blood pressure\, and anxiety. The course also teaches how to integrate intentional breathing with movement to improve mobility\, increase energy\, enhance recovery\, and support long-term well-being.
URL:https://nextlevelinstitute.org/event/breathe-to-thrive-2/
END:VEVENT
BEGIN:VEVENT
DTSTART;VALUE=DATE:20260626
DTEND;VALUE=DATE:20260629
DTSTAMP:20260421T125141
CREATED:20260113T195743Z
LAST-MODIFIED:20260113T195743Z
UID:1405-1782432000-1782691199@nextlevelinstitute.org
SUMMARY:NeuroMuscular Reprogramming NMR®
DESCRIPTION:NeuroMuscular Reprogramming NMR®: the Missing Link in Rehabilitation   \nLearn muscle testing to assess and correct the coordination dysfunctions that are the source of most structural pain. NMR teaches an approach to solving structural problems that is efficient and easy on the practitioner.   Muscle Testing cues the motor learning center for learning new movement strategies. \nRegistration Opening Soon!
URL:https://nextlevelinstitute.org/event/neuromuscular-reprogramming-nmr/
END:VEVENT
END:VCALENDAR